BEGIN:VCALENDAR
VERSION:2.0
PRODID:-//wp-events-plugin.com//7.2.3.1//EN
TZID:Europe/Berlin
X-WR-TIMEZONE:Europe/Berlin
BEGIN:VEVENT
UID:113@awup.de
DTSTART;TZID=Europe/Berlin:20220414T090000
DTEND;TZID=Europe/Berlin:20220414T173000
DTSTAMP:20220210T225221Z
URL:https://awup.de/events/la-fokus-leadership-so-ticken-wir/
SUMMARY:LA Fokus Leadership - So ticken wir!
DESCRIPTION:\nIn der Fokus-Leadership-Reihe haben wir eine feste Teilnehmer
 gruppe von maximal 10 Personen. Das Seminar richtet sich an Geschäftsfüh
 rer und Prokuristen mit strategischer Verantwortung. Sofern Sie Interesse 
 an einer Teilnahme haben\, melden Sie sich bitte bei uns!\n\n\n\nNikolai L
 adanyi\n\n\n\n\n\n\n\n\n"So ticken wir!"\n\n\nWie Sie Ihren Unternehmenske
 rn zum Leben erwecken:\n\n\n\n\n 	was Ihre Unternehmenskultur mit Ihrer St
 rategie zu tun hat\n 	wie Sie Ihr WOFÜR entdecken und Ihren Unternehmensz
 weck leben\n 	wie Sie Ihre Core Values identifizieren und welche Kraft in 
 ihnen steckt\n 	warum jedes erfolgreiche Unternehmen ein BHAG braucht\n\n\
 n
ATTACH;FMTTYPE=image/jpeg:https://awup.de/wp-content/uploads/2022/02/E4D96
 B37-5497-4C18-BDB6-2C51DED6D593.jpeg
LOCATION:Waldgasthof "Am Letten"\, Letten 13\, Lauf an der Pegnitz\, 91207\
 , Deutschland
X-APPLE-STRUCTURED-LOCATION;VALUE=URI;X-ADDRESS=Letten 13\, Lauf an der Peg
 nitz\, 91207\, Deutschland;X-APPLE-RADIUS=100;X-TITLE=Waldgasthof \"Am Let
 ten\":geo:0,0
END:VEVENT
BEGIN:VTIMEZONE
TZID:Europe/Berlin
X-LIC-LOCATION:Europe/Berlin
BEGIN:DAYLIGHT
DTSTART:20220327T030000
TZOFFSETFROM:+0100
TZOFFSETTO:+0200
TZNAME:CEST
END:DAYLIGHT
END:VTIMEZONE
END:VCALENDAR