BEGIN:VCALENDAR
VERSION:2.0
PRODID:-//wp-events-plugin.com//7.2.3.1//EN
TZID:Europe/Berlin
X-WR-TIMEZONE:Europe/Berlin
BEGIN:VEVENT
UID:239@awup.de
DTSTART;TZID=Europe/Berlin:20230420T090000
DTEND;TZID=Europe/Berlin:20230420T173000
DTSTAMP:20230404T073706Z
URL:https://awup.de/events/la-fokus-leadership-der-talente-magnet/
SUMMARY:LA Fokus Leadership -  Der Talente-Magnet
DESCRIPTION:\nIn der Fokus-Leadership-Reihe haben wir eine feste Teilnehmer
 gruppe von maximal 10 Personen. Das Seminar richtet sich an Geschäftsfüh
 rer und Prokuristen mit strategischer Verantwortung. Sofern Sie Interesse 
 an einer Teilnahme haben\, melden Sie sich bitte bei uns!\n\n\n\nAlexander
  Müller / Manuel Noya\n\n\n\n\n\n\n\n\nDer Talente-Magnet\n\n\nSo steige
 rn Sie die Anziehungskraft Ihres Unternehmens und ziehen die besten Mitarb
 eiter an:\n\n\n\n\n 	welches Mindset Sie brauchen\, um in der heutigen Zei
 t erfolgreich Bewerber anzuziehen\n 	wie Sie die besten Talente für Ihr 
 Unternehmen begeistern und gewinnen können\n 	welche konkreten Schritte n
 otwendig sind\, um zukünftig beim Kampf um Talente zu bestehen\n 	warum 
 Recruiting auch Chefsache ist\n\n\n
ATTACH;FMTTYPE=image/jpeg:https://awup.de/wp-content/uploads/2022/02/DF7D7
 1F3-670E-426F-A7E6-EB9E4737B859.png
CATEGORIES:FOKUS Leadership
LOCATION:Dormero Schlosshotel Reichenschwand\, Schloßweg 8\, Reichenschwan
 d\, Bayern\, 91244\, Mittelfranken\, Deutschland
X-APPLE-STRUCTURED-LOCATION;VALUE=URI;X-ADDRESS=Schloßweg 8\, Reichenschwa
 nd\, Bayern\, 91244\, Mittelfranken\, Deutschland;X-APPLE-RADIUS=100;X-TIT
 LE=Dormero Schlosshotel Reichenschwand:geo:0,0
END:VEVENT
BEGIN:VTIMEZONE
TZID:Europe/Berlin
X-LIC-LOCATION:Europe/Berlin
BEGIN:DAYLIGHT
DTSTART:20230326T030000
TZOFFSETFROM:+0100
TZOFFSETTO:+0200
TZNAME:CEST
END:DAYLIGHT
END:VTIMEZONE
END:VCALENDAR