BEGIN:VCALENDAR
VERSION:2.0
PRODID:-//wp-events-plugin.com//7.2.3.1//EN
TZID:Europe/Berlin
X-WR-TIMEZONE:Europe/Berlin
BEGIN:VEVENT
UID:73@awup.de
DTSTART;TZID=Europe/Berlin:20210714T120000
DTEND;TZID=Europe/Berlin:20210714T150000
DTSTAMP:20210705T135250Z
URL:https://awup.de/events/la-360-fuehrungstraining-juli-modul-2/
SUMMARY:LA 360° - Führungstraining\, Juli\, Modul 2
DESCRIPTION:\n\nProf. Dr. Jack Nasher\n\n\n\n"Das optimale Ergebnis"\nIn di
 esem Modul lernen Sie:\n\n\n\n\n 	\nMacht zu verstehen und zu nutzen\n\n 	
 \nWie Sie aus Gegnern Verbündete machen\n\n 	\nWie Sie vom Dealmaker zum 
 Dealdesigner werden\n\n 	\nUnd dadurch endlich bekommen\, was Sie wirklich
  wollen\n\n\n\n\n\nIn einer guten Verhandlung geht es nicht ums Feilschen\
 , sondern ums Erkennen von kreativen Möglichkeiten\, so dass jeder am End
 e mehr bekommt\, als er sich am Anfang vorgestellt hatte.\n\n\n\n
ATTACH;FMTTYPE=image/jpeg:https://awup.de/wp-content/uploads/2020/10/Juli_
 Instagram.png
LOCATION:Waldgasthof "Am Letten"\, Letten 13\, Lauf an der Pegnitz\, 91207\
 , Deutschland
X-APPLE-STRUCTURED-LOCATION;VALUE=URI;X-ADDRESS=Letten 13\, Lauf an der Peg
 nitz\, 91207\, Deutschland;X-APPLE-RADIUS=100;X-TITLE=Waldgasthof \"Am Let
 ten\":geo:0,0
END:VEVENT
BEGIN:VTIMEZONE
TZID:Europe/Berlin
X-LIC-LOCATION:Europe/Berlin
BEGIN:DAYLIGHT
DTSTART:20210328T030000
TZOFFSETFROM:+0100
TZOFFSETTO:+0200
TZNAME:CEST
END:DAYLIGHT
END:VTIMEZONE
END:VCALENDAR