BEGIN:VCALENDAR
VERSION:2.0
PRODID:-//wp-events-plugin.com//7.2.3.1//EN
TZID:Europe/Berlin
X-WR-TIMEZONE:Europe/Berlin
BEGIN:VEVENT
UID:189@awup.de
DTSTART;TZID=Europe/Berlin:20230117T120000
DTEND;TZID=Europe/Berlin:20230117T183000
DTSTAMP:20221108T103703Z
URL:https://awup.de/events/la-360-fuehrungstraining-januar-3/
SUMMARY:LA 360° - Führungstraining\, Januar
DESCRIPTION:\nModul 1:\n\nDr. Stefan Frädrich\nVeränderungen meistern\n\n
 In diesem Modul lernen Sie:\n\n 	Wie innere Schweinehunde wirklich ticken\
 n 	Wie Leistung Spaß macht\n 	Wie hinderlich Komfortzonen und Ängste sin
 d\n 	Wie Sie und Ihr Team Veränderungen trotzdem meistern\n\n„Erst wenn
  Sie selbst einen Sinn in einer Handlung sehen\, sagt Ihr innerer Schweine
 hund: Los geht’s\, das schaffst du!“\nModul 2:\n\n\n\n\n\n\n\n\n\nThom
 as Hahn\nFühren auf Distanz\nIn diesem Modul lernen Sie:\n\n\n 	Welches M
 indset sie brauchen\, um erfolgreich auf Distanz zu führen\n 	Was für ei
 ne effiziente und harmonische digitale Zusammenarbeit im Team nötig ist\n
  	Wie Sie auch auf Distanz ein Hochleistungsteam aufbauen und steuern kön
 nen\n\n\n\n\n\n„Messen Sie Ihre Mitarbeiter nicht an ihren Arbeitsstunde
 n\, sondern an ihren Ergebnissen.“\n\n\n\n\n\n\n\n
ATTACH;FMTTYPE=image/jpeg:https://awup.de/wp-content/uploads/2021/01/Janua
 r_Facebook.png
CATEGORIES:360°-Führung
LOCATION:Dormero Schlosshotel Reichenschwand\, Schloßweg 8\, Reichenschwan
 d\, Bayern\, 91244\, Mittelfranken\, Deutschland
X-APPLE-STRUCTURED-LOCATION;VALUE=URI;X-ADDRESS=Schloßweg 8\, Reichenschwa
 nd\, Bayern\, 91244\, Mittelfranken\, Deutschland;X-APPLE-RADIUS=100;X-TIT
 LE=Dormero Schlosshotel Reichenschwand:geo:0,0
END:VEVENT
BEGIN:VTIMEZONE
TZID:Europe/Berlin
X-LIC-LOCATION:Europe/Berlin
BEGIN:STANDARD
DTSTART:20221030T020000
TZOFFSETFROM:+0200
TZOFFSETTO:+0100
TZNAME:CET
END:STANDARD
END:VTIMEZONE
END:VCALENDAR